BEGIN:VCALENDAR
VERSION:2.0
PRODID:-//jEvents 2.0 for Joomla//EN
CALSCALE:GREGORIAN
METHOD:PUBLISH
BEGIN:VTIMEZONE
TZID:Europe/Berlin
BEGIN:STANDARD
DTSTART:20221030T020000
RDATE:20230326T030000
TZOFFSETFROM:+0200
TZOFFSETTO:+0100
TZNAME:Europe/Berlin CET
END:STANDARD
BEGIN:STANDARD
DTSTART:20231029T020000
RDATE:20240331T030000
TZOFFSETFROM:+0200
TZOFFSETTO:+0100
TZNAME:Europe/Berlin CET
END:STANDARD
BEGIN:STANDARD
DTSTART:20241027T020000
RDATE:20250330T030000
TZOFFSETFROM:+0200
TZOFFSETTO:+0100
TZNAME:Europe/Berlin CET
END:STANDARD
BEGIN:STANDARD
DTSTART:20251026T020000
RDATE:20260329T030000
TZOFFSETFROM:+0200
TZOFFSETTO:+0100
TZNAME:Europe/Berlin CET
END:STANDARD
BEGIN:STANDARD
DTSTART:20261025T020000
RDATE:20270328T030000
TZOFFSETFROM:+0200
TZOFFSETTO:+0100
TZNAME:Europe/Berlin CET
END:STANDARD
BEGIN:STANDARD
DTSTART:20271031T020000
RDATE:20280326T030000
TZOFFSETFROM:+0200
TZOFFSETTO:+0100
TZNAME:Europe/Berlin CET
END:STANDARD
BEGIN:STANDARD
DTSTART:20281029T020000
RDATE:20290325T030000
TZOFFSETFROM:+0200
TZOFFSETTO:+0100
TZNAME:Europe/Berlin CET
END:STANDARD
BEGIN:STANDARD
DTSTART:20291028T020000
RDATE:20300331T030000
TZOFFSETFROM:+0200
TZOFFSETTO:+0100
TZNAME:Europe/Berlin CET
END:STANDARD
BEGIN:STANDARD
DTSTART:20301027T020000
RDATE:20310330T030000
TZOFFSETFROM:+0200
TZOFFSETTO:+0100
TZNAME:Europe/Berlin CET
END:STANDARD
BEGIN:STANDARD
DTSTART:20311026T020000
RDATE:20320328T030000
TZOFFSETFROM:+0200
TZOFFSETTO:+0100
TZNAME:Europe/Berlin CET
END:STANDARD
BEGIN:DAYLIGHT
DTSTART:20220509T100000
RDATE:20221030T020000
TZOFFSETFROM:+0100
TZOFFSETTO:+0200
TZNAME:Europe/Berlin CEST
END:DAYLIGHT
BEGIN:DAYLIGHT
DTSTART:20230326T030000
RDATE:20231029T020000
TZOFFSETFROM:+0100
TZOFFSETTO:+0200
TZNAME:Europe/Berlin CEST
END:DAYLIGHT
BEGIN:DAYLIGHT
DTSTART:20240331T030000
RDATE:20241027T020000
TZOFFSETFROM:+0100
TZOFFSETTO:+0200
TZNAME:Europe/Berlin CEST
END:DAYLIGHT
BEGIN:DAYLIGHT
DTSTART:20250330T030000
RDATE:20251026T020000
TZOFFSETFROM:+0100
TZOFFSETTO:+0200
TZNAME:Europe/Berlin CEST
END:DAYLIGHT
BEGIN:DAYLIGHT
DTSTART:20260329T030000
RDATE:20261025T020000
TZOFFSETFROM:+0100
TZOFFSETTO:+0200
TZNAME:Europe/Berlin CEST
END:DAYLIGHT
BEGIN:DAYLIGHT
DTSTART:20270328T030000
RDATE:20271031T020000
TZOFFSETFROM:+0100
TZOFFSETTO:+0200
TZNAME:Europe/Berlin CEST
END:DAYLIGHT
BEGIN:DAYLIGHT
DTSTART:20280326T030000
RDATE:20281029T020000
TZOFFSETFROM:+0100
TZOFFSETTO:+0200
TZNAME:Europe/Berlin CEST
END:DAYLIGHT
BEGIN:DAYLIGHT
DTSTART:20290325T030000
RDATE:20291028T020000
TZOFFSETFROM:+0100
TZOFFSETTO:+0200
TZNAME:Europe/Berlin CEST
END:DAYLIGHT
BEGIN:DAYLIGHT
DTSTART:20300331T030000
RDATE:20301027T020000
TZOFFSETFROM:+0100
TZOFFSETTO:+0200
TZNAME:Europe/Berlin CEST
END:DAYLIGHT
BEGIN:DAYLIGHT
DTSTART:20310330T030000
RDATE:20311026T020000
TZOFFSETFROM:+0100
TZOFFSETTO:+0200
TZNAME:Europe/Berlin CEST
END:DAYLIGHT
END:VTIMEZONE
BEGIN:VEVENT
UID:069626b7f68f9e8c968e7be145e40b49
CATEGORIES:Tennis und Training für mich
CREATED:20230419T143354
SUMMARY:Schnupper Tennis Vormittag
LOCATION:TVGG Anlage und Sandplätze
DESCRIPTION:Ihr habt noch kein Tennis gespielt, wollt es aber mal probieren?\nDazu biet
 en wir 2023 für Kinder bis 6 Jahren einen Schnuppervormittag (index.php/ten
 nis/jugendtennis/271-schnuppertennistag-10-5-23) an.\nDieser findet am 10. 
 Mai auf der Anlage des TVGG statt. Der Waldkindergarten wird an diesem Tag 
 mit seinen Gruppen vor Ort sein.\nProbeschläger in allen Größen stehen zur 
 Verfügung. Ihr braucht lediglich Schuhe mit möglichst flachem Profil (Halle
 nschuhe, z.B. Basketball, Handball).\nKontakt: Jugendwartin Claudia Sychla 
 (index.php?option=com_contact&amp;view=contact&amp;id=44&amp;catid=14)\n
X-ALT-DESC;FMTTYPE=text/html:<p>Ihr habt noch kein Tennis gespielt, wollt es aber mal probieren?</p><p>D
 azu bieten wir 2023<strong> für Kinder bis 6 Jahren</strong> einen <strong>
 <a href="https://www.tvgg1968.de/index.php/tennis/jugendtennis/271-schnuppe
 rtennistag-10-5-23" target="_blank">Schnuppervormittag</a></strong> an.</p>
 <p>Dieser findet am <strong>10. Mai</strong> auf der Anlage des TVGG statt.
  Der Waldkindergarten wird an diesem Tag mit seinen Gruppen vor Ort sein.</
 p><p>Probeschläger in allen Größen stehen zur Verfügung. Ihr braucht ledigl
 ich Schuhe mit möglichst flachem Profil (Hallenschuhe, z.B. Basketball, Han
 dball).</p><p>Kontakt: Jugendwartin <a href="https://www.tvgg1968.de/index.
 php?option=com_contact&amp;view=contact&amp;id=44&amp;catid=14">Claudia Syc
 hla</a></p>
CONTACT:Claudia Sychla
DTSTAMP:20260424T103632
DTSTART;TZID=Europe/Berlin:20230510T100000
DTEND;TZID=Europe/Berlin:20230510T120000
SEQUENCE:0
TRANSP:OPAQUE
END:VEVENT
END:VCALENDAR