BEGIN:VCALENDAR
VERSION:2.0
PRODID:-//jEvents 2.0 for Joomla//EN
CALSCALE:GREGORIAN
METHOD:PUBLISH
BEGIN:VTIMEZONE
TZID:Europe/Berlin
BEGIN:STANDARD
DTSTART:20221030T020000
RDATE:20230326T030000
TZOFFSETFROM:+0200
TZOFFSETTO:+0100
TZNAME:Europe/Berlin CET
END:STANDARD
BEGIN:STANDARD
DTSTART:20231029T020000
RDATE:20240331T030000
TZOFFSETFROM:+0200
TZOFFSETTO:+0100
TZNAME:Europe/Berlin CET
END:STANDARD
BEGIN:STANDARD
DTSTART:20241027T020000
RDATE:20250330T030000
TZOFFSETFROM:+0200
TZOFFSETTO:+0100
TZNAME:Europe/Berlin CET
END:STANDARD
BEGIN:STANDARD
DTSTART:20251026T020000
RDATE:20260329T030000
TZOFFSETFROM:+0200
TZOFFSETTO:+0100
TZNAME:Europe/Berlin CET
END:STANDARD
BEGIN:STANDARD
DTSTART:20261025T020000
RDATE:20270328T030000
TZOFFSETFROM:+0200
TZOFFSETTO:+0100
TZNAME:Europe/Berlin CET
END:STANDARD
BEGIN:STANDARD
DTSTART:20271031T020000
RDATE:20280326T030000
TZOFFSETFROM:+0200
TZOFFSETTO:+0100
TZNAME:Europe/Berlin CET
END:STANDARD
BEGIN:STANDARD
DTSTART:20281029T020000
RDATE:20290325T030000
TZOFFSETFROM:+0200
TZOFFSETTO:+0100
TZNAME:Europe/Berlin CET
END:STANDARD
BEGIN:STANDARD
DTSTART:20291028T020000
RDATE:20300331T030000
TZOFFSETFROM:+0200
TZOFFSETTO:+0100
TZNAME:Europe/Berlin CET
END:STANDARD
BEGIN:STANDARD
DTSTART:20301027T020000
RDATE:20310330T030000
TZOFFSETFROM:+0200
TZOFFSETTO:+0100
TZNAME:Europe/Berlin CET
END:STANDARD
BEGIN:STANDARD
DTSTART:20311026T020000
RDATE:20320328T030000
TZOFFSETFROM:+0200
TZOFFSETTO:+0100
TZNAME:Europe/Berlin CET
END:STANDARD
BEGIN:DAYLIGHT
DTSTART:20220525T163000
RDATE:20221030T020000
TZOFFSETFROM:+0100
TZOFFSETTO:+0200
TZNAME:Europe/Berlin CEST
END:DAYLIGHT
BEGIN:DAYLIGHT
DTSTART:20230326T030000
RDATE:20231029T020000
TZOFFSETFROM:+0100
TZOFFSETTO:+0200
TZNAME:Europe/Berlin CEST
END:DAYLIGHT
BEGIN:DAYLIGHT
DTSTART:20240331T030000
RDATE:20241027T020000
TZOFFSETFROM:+0100
TZOFFSETTO:+0200
TZNAME:Europe/Berlin CEST
END:DAYLIGHT
BEGIN:DAYLIGHT
DTSTART:20250330T030000
RDATE:20251026T020000
TZOFFSETFROM:+0100
TZOFFSETTO:+0200
TZNAME:Europe/Berlin CEST
END:DAYLIGHT
BEGIN:DAYLIGHT
DTSTART:20260329T030000
RDATE:20261025T020000
TZOFFSETFROM:+0100
TZOFFSETTO:+0200
TZNAME:Europe/Berlin CEST
END:DAYLIGHT
BEGIN:DAYLIGHT
DTSTART:20270328T030000
RDATE:20271031T020000
TZOFFSETFROM:+0100
TZOFFSETTO:+0200
TZNAME:Europe/Berlin CEST
END:DAYLIGHT
BEGIN:DAYLIGHT
DTSTART:20280326T030000
RDATE:20281029T020000
TZOFFSETFROM:+0100
TZOFFSETTO:+0200
TZNAME:Europe/Berlin CEST
END:DAYLIGHT
BEGIN:DAYLIGHT
DTSTART:20290325T030000
RDATE:20291028T020000
TZOFFSETFROM:+0100
TZOFFSETTO:+0200
TZNAME:Europe/Berlin CEST
END:DAYLIGHT
BEGIN:DAYLIGHT
DTSTART:20300331T030000
RDATE:20301027T020000
TZOFFSETFROM:+0100
TZOFFSETTO:+0200
TZNAME:Europe/Berlin CEST
END:DAYLIGHT
BEGIN:DAYLIGHT
DTSTART:20310330T030000
RDATE:20311026T020000
TZOFFSETFROM:+0100
TZOFFSETTO:+0200
TZNAME:Europe/Berlin CEST
END:DAYLIGHT
END:VTIMEZONE
BEGIN:VEVENT
UID:1a91149facbddfe22e4b9e1b458572ce
CATEGORIES:Tennis und Training für mich
CREATED:19700101T010000
SUMMARY:Schnupper Tennis Stunde - Platz 3 - Erwachsene
LOCATION:TVGG Platz 3 Sperre von 16:30 bis 17:30 Uhr
DESCRIPTION:<p>Ihr habt noch kein Tennis gespielt, wollt es aber mal probieren?</p><p>D
 azu bieten wir 2023<strong> für Erwachsene</strong> eine <strong><a href="i
 ndex.php/tennis/jugendtennis/271-schnuppertennistag-10-5-23" target="_blank
 ">SchnupperStunde</a></strong> an.</p><p>Diese finden ab 5. Mai 5x am Freit
 ag von 16:30 bis 17:30 Uhr und am Samstag 24.6. (Uhrzeit n.V.) auf der Anla
 ge des TVGG statt am .</p><p>Probeschläger in allen Größen stehen zur Verfü
 gung. Ihr braucht lediglich Schuhe mit möglichst flachem Profil (Hallenschu
 he, z.B. Basketball, Handball).</p><p>Kontakt: Breitensportwartin <a href="
 index.php?option=com_contact&amp;view=contact&amp;id=6&amp;catid=14" target
 ="_blank">Dagmar Hachenberger</a></p>
X-ALT-DESC;FMTTYPE=text/html:<p>Ihr habt noch kein Tennis gespielt, wollt es aber mal probieren?</p><p>D
 azu bieten wir 2023<strong> für Erwachsene</strong> eine <strong><a href="h
 ttps://www.tvgg1968.de/index.php/tennis/jugendtennis/271-schnuppertennistag
 -10-5-23" target="_blank">SchnupperStunde</a></strong> an.</p><p>Diese find
 en ab 5. Mai 5x am Freitag von 16:30 bis 17:30 Uhr und am Samstag 24.6. (Uh
 rzeit n.V.) auf der Anlage des TVGG statt am .</p><p>Probeschläger in allen
  Größen stehen zur Verfügung. Ihr braucht lediglich Schuhe mit möglichst fl
 achem Profil (Hallenschuhe, z.B. Basketball, Handball).</p><p>Kontakt: Brei
 tensportwartin <a href="https://www.tvgg1968.de/index.php?option=com_contac
 t&amp;view=contact&amp;id=6&amp;catid=14" target="_blank">Dagmar Hachenberg
 er</a></p>
CONTACT:Dagmar Hachenberger
DTSTAMP:20260425T143708
DTSTART;TZID=Europe/Berlin:20230526T163000
DTEND;TZID=Europe/Berlin:20230526T173000
SEQUENCE:0
RRULE:FREQ=WEEKLY;COUNT=3;INTERVAL=1;BYDAY=FR
TRANSP:OPAQUE
END:VEVENT
END:VCALENDAR