BEGIN:VCALENDAR
VERSION:2.0
PRODID:-//jEvents 2.0 for Joomla//EN
CALSCALE:GREGORIAN
METHOD:PUBLISH
BEGIN:VTIMEZONE
TZID:Europe/Berlin
BEGIN:STANDARD
DTSTART:20240319T190000
RDATE:20240331T030000
TZOFFSETFROM:+0200
TZOFFSETTO:+0100
TZNAME:Europe/Berlin CET
END:STANDARD
BEGIN:STANDARD
DTSTART:20241027T020000
RDATE:20250330T030000
TZOFFSETFROM:+0200
TZOFFSETTO:+0100
TZNAME:Europe/Berlin CET
END:STANDARD
BEGIN:STANDARD
DTSTART:20251026T020000
RDATE:20260329T030000
TZOFFSETFROM:+0200
TZOFFSETTO:+0100
TZNAME:Europe/Berlin CET
END:STANDARD
BEGIN:STANDARD
DTSTART:20261025T020000
RDATE:20270328T030000
TZOFFSETFROM:+0200
TZOFFSETTO:+0100
TZNAME:Europe/Berlin CET
END:STANDARD
BEGIN:STANDARD
DTSTART:20271031T020000
RDATE:20280326T030000
TZOFFSETFROM:+0200
TZOFFSETTO:+0100
TZNAME:Europe/Berlin CET
END:STANDARD
BEGIN:STANDARD
DTSTART:20281029T020000
RDATE:20290325T030000
TZOFFSETFROM:+0200
TZOFFSETTO:+0100
TZNAME:Europe/Berlin CET
END:STANDARD
BEGIN:STANDARD
DTSTART:20291028T020000
RDATE:20300331T030000
TZOFFSETFROM:+0200
TZOFFSETTO:+0100
TZNAME:Europe/Berlin CET
END:STANDARD
BEGIN:STANDARD
DTSTART:20301027T020000
RDATE:20310330T030000
TZOFFSETFROM:+0200
TZOFFSETTO:+0100
TZNAME:Europe/Berlin CET
END:STANDARD
BEGIN:STANDARD
DTSTART:20311026T020000
RDATE:20320328T030000
TZOFFSETFROM:+0200
TZOFFSETTO:+0100
TZNAME:Europe/Berlin CET
END:STANDARD
BEGIN:DAYLIGHT
DTSTART:20240331T030000
RDATE:20241027T020000
TZOFFSETFROM:+0100
TZOFFSETTO:+0200
TZNAME:Europe/Berlin CEST
END:DAYLIGHT
BEGIN:DAYLIGHT
DTSTART:20250330T030000
RDATE:20251026T020000
TZOFFSETFROM:+0100
TZOFFSETTO:+0200
TZNAME:Europe/Berlin CEST
END:DAYLIGHT
BEGIN:DAYLIGHT
DTSTART:20260329T030000
RDATE:20261025T020000
TZOFFSETFROM:+0100
TZOFFSETTO:+0200
TZNAME:Europe/Berlin CEST
END:DAYLIGHT
BEGIN:DAYLIGHT
DTSTART:20270328T030000
RDATE:20271031T020000
TZOFFSETFROM:+0100
TZOFFSETTO:+0200
TZNAME:Europe/Berlin CEST
END:DAYLIGHT
BEGIN:DAYLIGHT
DTSTART:20280326T030000
RDATE:20281029T020000
TZOFFSETFROM:+0100
TZOFFSETTO:+0200
TZNAME:Europe/Berlin CEST
END:DAYLIGHT
BEGIN:DAYLIGHT
DTSTART:20290325T030000
RDATE:20291028T020000
TZOFFSETFROM:+0100
TZOFFSETTO:+0200
TZNAME:Europe/Berlin CEST
END:DAYLIGHT
BEGIN:DAYLIGHT
DTSTART:20300331T030000
RDATE:20301027T020000
TZOFFSETFROM:+0100
TZOFFSETTO:+0200
TZNAME:Europe/Berlin CEST
END:DAYLIGHT
BEGIN:DAYLIGHT
DTSTART:20310330T030000
RDATE:20311026T020000
TZOFFSETFROM:+0100
TZOFFSETTO:+0200
TZNAME:Europe/Berlin CEST
END:DAYLIGHT
END:VTIMEZONE
BEGIN:VEVENT
UID:430d2182058703521fa604c8eb7b67b7
CATEGORIES:TVGG
CREATED:20241104T183454
SUMMARY:Mitgliederversammlung (JHV)
LOCATION:Restaurant Bähre
DESCRIPTION:<p><strong>Liebe Mitglieder des TVGG,</strong></p><p style="text-align: jus
 tify;">die <a href="index.php/platzbelegung/eventdetail/92657/-/mitgliederv
 ersammlung-jhv" target="_blank" rel="noopener">Mitgliederversammlung (20.3.
 2025, 19 Uhr, Restaurant Bähre)</a>&nbsp;</p><p>hat eine <a href="index.php
 ?option=com_content&amp;view=article&amp;id=17:mitgliedschaft&amp;catid=8:v
 erein" target="_blank">neue Beitrags- und Gastspielordnung</a> beschlossen 
 und einige <a href="index.php?Itemid=118" target="_blank">Vorstandsämter </
 a>neu besetzt.</p><p>Für Fragen, Anregungen oder Wünsche stehe ich / wir eu
 ch jederzeit gerne zur Verfügung –</p><p><a href="index.php?option=com_cont
 ent&amp;view=article&amp;id=10:vorstand&amp;catid=8:verein" target="_blank"
 > telefonisch, per E-Mail oder persönlich auf der Anlage</a>.</p><p>Ich fre
 ue mich sehr über das entgegengebrachte Vertrauen und die neue Aufgabe, auf
  eine gute Zusammenarbeit und eine erfolgreiche Saison mit Euch allen! In u
 nserer Terminübersicht könnt ihr sehen, dass wir im Rahmen von Vorstandssit
 zungen bereits die ersten Termine für 2025 festgelegt haben, einschließlich
  Platzeröffnung, Arbeitsdiensten und Tag der Offenen Tür.</p><p>Herzliche G
 rüße<br />Ina Bogner<br />1. Vorsitzende TVGG</p>
X-ALT-DESC;FMTTYPE=text/html:<p><strong>Liebe Mitglieder des TVGG,</strong></p><p style="text-align: jus
 tify;">die <a href="https://www.tvgg1968.de/index.php/platzbelegung/eventde
 tail/92657/-/mitgliederversammlung-jhv" target="_blank" rel="noopener">Mitg
 liederversammlung (20.3.2025, 19 Uhr, Restaurant Bähre)</a>&nbsp;</p><p>hat
  eine <a href="https://www.tvgg1968.de/index.php?option=com_content&amp;vie
 w=article&amp;id=17:mitgliedschaft&amp;catid=8:verein" target="_blank">neue
  Beitrags- und Gastspielordnung</a> beschlossen und einige <a href="https:/
 /www.tvgg1968.de/index.php?Itemid=118" target="_blank">Vorstandsämter </a>n
 eu besetzt.</p><p>Für Fragen, Anregungen oder Wünsche stehe ich / wir euch 
 jederzeit gerne zur Verfügung –</p><p><a href="https://www.tvgg1968.de/inde
 x.php?option=com_content&amp;view=article&amp;id=10:vorstand&amp;catid=8:ve
 rein" target="_blank"> telefonisch, per E-Mail oder persönlich auf der Anla
 ge</a>.</p><p>Ich freue mich sehr über das entgegengebrachte Vertrauen und 
 die neue Aufgabe, auf eine gute Zusammenarbeit und eine erfolgreiche Saison
  mit Euch allen! In unserer Terminübersicht könnt ihr sehen, dass wir im Ra
 hmen von Vorstandssitzungen bereits die ersten Termine für 2025 festgelegt 
 haben, einschließlich Platzeröffnung, Arbeitsdiensten und Tag der Offenen T
 ür.</p><p>Herzliche Grüße<br />Ina Bogner<br />1. Vorsitzende TVGG</p>
CONTACT:Thomas Dreeskornfeld und Ina Bogner
DTSTAMP:20260422T040058
DTSTART;TZID=Europe/Berlin:20250320T190000
SEQUENCE:0
TRANSP:OPAQUE
END:VEVENT
END:VCALENDAR