BEGIN:VCALENDAR
VERSION:2.0
PRODID:-//jEvents 2.0 for Joomla//EN
CALSCALE:GREGORIAN
METHOD:PUBLISH
BEGIN:VTIMEZONE
TZID:Europe/Berlin
BEGIN:STANDARD
DTSTART:20241027T020000
RDATE:20250330T030000
TZOFFSETFROM:+0200
TZOFFSETTO:+0100
TZNAME:Europe/Berlin CET
END:STANDARD
BEGIN:STANDARD
DTSTART:20251026T020000
RDATE:20260329T030000
TZOFFSETFROM:+0200
TZOFFSETTO:+0100
TZNAME:Europe/Berlin CET
END:STANDARD
BEGIN:STANDARD
DTSTART:20261025T020000
RDATE:20270328T030000
TZOFFSETFROM:+0200
TZOFFSETTO:+0100
TZNAME:Europe/Berlin CET
END:STANDARD
BEGIN:STANDARD
DTSTART:20271031T020000
RDATE:20280326T030000
TZOFFSETFROM:+0200
TZOFFSETTO:+0100
TZNAME:Europe/Berlin CET
END:STANDARD
BEGIN:STANDARD
DTSTART:20281029T020000
RDATE:20290325T030000
TZOFFSETFROM:+0200
TZOFFSETTO:+0100
TZNAME:Europe/Berlin CET
END:STANDARD
BEGIN:STANDARD
DTSTART:20291028T020000
RDATE:20300331T030000
TZOFFSETFROM:+0200
TZOFFSETTO:+0100
TZNAME:Europe/Berlin CET
END:STANDARD
BEGIN:STANDARD
DTSTART:20301027T020000
RDATE:20310330T030000
TZOFFSETFROM:+0200
TZOFFSETTO:+0100
TZNAME:Europe/Berlin CET
END:STANDARD
BEGIN:STANDARD
DTSTART:20311026T020000
RDATE:20320328T030000
TZOFFSETFROM:+0200
TZOFFSETTO:+0100
TZNAME:Europe/Berlin CET
END:STANDARD
BEGIN:DAYLIGHT
DTSTART:20240425T090000
RDATE:20241027T020000
TZOFFSETFROM:+0100
TZOFFSETTO:+0200
TZNAME:Europe/Berlin CEST
END:DAYLIGHT
BEGIN:DAYLIGHT
DTSTART:20250330T030000
RDATE:20251026T020000
TZOFFSETFROM:+0100
TZOFFSETTO:+0200
TZNAME:Europe/Berlin CEST
END:DAYLIGHT
BEGIN:DAYLIGHT
DTSTART:20260329T030000
RDATE:20261025T020000
TZOFFSETFROM:+0100
TZOFFSETTO:+0200
TZNAME:Europe/Berlin CEST
END:DAYLIGHT
BEGIN:DAYLIGHT
DTSTART:20270328T030000
RDATE:20271031T020000
TZOFFSETFROM:+0100
TZOFFSETTO:+0200
TZNAME:Europe/Berlin CEST
END:DAYLIGHT
BEGIN:DAYLIGHT
DTSTART:20280326T030000
RDATE:20281029T020000
TZOFFSETFROM:+0100
TZOFFSETTO:+0200
TZNAME:Europe/Berlin CEST
END:DAYLIGHT
BEGIN:DAYLIGHT
DTSTART:20290325T030000
RDATE:20291028T020000
TZOFFSETFROM:+0100
TZOFFSETTO:+0200
TZNAME:Europe/Berlin CEST
END:DAYLIGHT
BEGIN:DAYLIGHT
DTSTART:20300331T030000
RDATE:20301027T020000
TZOFFSETFROM:+0100
TZOFFSETTO:+0200
TZNAME:Europe/Berlin CEST
END:DAYLIGHT
BEGIN:DAYLIGHT
DTSTART:20310330T030000
RDATE:20311026T020000
TZOFFSETFROM:+0100
TZOFFSETTO:+0200
TZNAME:Europe/Berlin CEST
END:DAYLIGHT
END:VTIMEZONE
BEGIN:VEVENT
UID:18fb76726ae33be3abd6f6b94d742724
CATEGORIES:Tennis und Training für mich
CREATED:20250220T211953
SUMMARY:P1-6 TVGG LK Turnier Nr. 0 - Erwachsene Preseason
LOCATION:Platzsperre Plätze 1 2 6 ab 9:30 Uhr / 3 4 5 ab 11:00 bis ca. 18:30 Uhr
DESCRIPTION:<p><a href="index.php/tennis/turniere/419-pre-season-tvgg-turnier-fuer-ak-e
 inzel-doppel-mixed-2025-nr-0" target="_blank" rel="noopener">Pre-Season-TVG
 G Turnier für AK (Einzel+Doppel+MIXED) 2025 (Nr.0)</a></p><p>Die folgenden 
 KK finden statt laut Spielplan nach Auslosung am 24.4.2025 / 20:30 Uhr:</p>
 <p><strong>Einzel ab 11:30 Uhr:</strong>&nbsp; AK Damen 40/55 und Herren 40
 /55</p><p><strong>Doppel ab 10:00 Uhr:</strong> AK&nbsp; Herren 40</p><p>Mi
 xed <strong> ab 10:00 Uhr</strong>:&nbsp; AK 40</p><p>Platzsperre Plätze 1 
 2 6 ab 9:30 Uhr / 3 4 5 ab 11:00 bis ca. 16:30 Uhr</p><p>&nbsp;</p><p>Aussc
 hreibung &amp; Planung bis Auslosung:</p><p><strong>Einzel:</strong>&nbsp; 
 AK Damen 30/40/55 und Herren&nbsp;30/40/55</p><p><strong>Doppel:</strong> A
 K Damen 30&nbsp; und Herren 40</p><p>Mixed:&nbsp; AK 40 und 50</p><p>Ende: 
 etwa 19 Uhr (geplant) - Ende tatsächlich um 19:03 Uhr</p><p>Platzsperre Plä
 tze geplant: 1 2 6 ab 9:30 Uhr / 3 4 5 ab 11:00 bis ca. 16:30 Uhr - tatsäch
 lich 3 4 ganztags und 5 ab 12 Uhr bis 16 Uhr&nbsp;unspielbar und 1 2 5 6 10
  bis 18:30 und 2 bis 19 Uhr</p><p>Anmeldung, Termine, Spielplan und Ergebni
 sse sind zu finden auf <a href="https://www.tennis.de/spielen/turniersuche.
 html?tournamentid=691032" target="_blank" rel="noopener">tennis.de</a> oder
  <a href="https://spieler.tennis.de/web/guest/turniersuche?tournamentId=691
 032" target="_blank" rel="noopener">mybigpoint</a></p>
X-ALT-DESC;FMTTYPE=text/html:<p><a href="https://www.tvgg1968.de/index.php/tennis/turniere/419-pre-seaso
 n-tvgg-turnier-fuer-ak-einzel-doppel-mixed-2025-nr-0" target="_blank" rel="
 noopener">Pre-Season-TVGG Turnier für AK (Einzel+Doppel+MIXED) 2025 (Nr.0)<
 /a></p><p>Die folgenden KK finden statt laut Spielplan nach Auslosung am 24
 .4.2025 / 20:30 Uhr:</p><p><strong>Einzel ab 11:30 Uhr:</strong>&nbsp; AK D
 amen 40/55 und Herren 40/55</p><p><strong>Doppel ab 10:00 Uhr:</strong> AK&
 nbsp; Herren 40</p><p>Mixed <strong> ab 10:00 Uhr</strong>:&nbsp; AK 40</p>
 <p>Platzsperre Plätze 1 2 6 ab 9:30 Uhr / 3 4 5 ab 11:00 bis ca. 16:30 Uhr<
 /p><p>&nbsp;</p><p>Ausschreibung &amp; Planung bis Auslosung:</p><p><strong
 >Einzel:</strong>&nbsp; AK Damen 30/40/55 und Herren&nbsp;30/40/55</p><p><s
 trong>Doppel:</strong> AK Damen 30&nbsp; und Herren 40</p><p>Mixed:&nbsp; A
 K 40 und 50</p><p>Ende: etwa 19 Uhr (geplant) - Ende tatsächlich um 19:03 U
 hr</p><p>Platzsperre Plätze geplant: 1 2 6 ab 9:30 Uhr / 3 4 5 ab 11:00 bis
  ca. 16:30 Uhr - tatsächlich 3 4 ganztags und 5 ab 12 Uhr bis 16 Uhr&nbsp;u
 nspielbar und 1 2 5 6 10 bis 18:30 und 2 bis 19 Uhr</p><p>Anmeldung, Termin
 e, Spielplan und Ergebnisse sind zu finden auf <a href="https://www.tennis.
 de/spielen/turniersuche.html?tournamentid=691032" target="_blank" rel="noop
 ener">tennis.de</a> oder <a href="https://spieler.tennis.de/web/guest/turni
 ersuche?tournamentId=691032" target="_blank" rel="noopener">mybigpoint</a><
 /p>
CONTACT:Diese E-Mail-Adresse ist vor Spambots geschützt! Zur Anzeige muss JavaScript eingeschaltet sein.
X-EXTRAINFO:Mitglieder, die zu Sperrzeiten frei spielen möchten, kontaktieren bitte Myr
 iam Behschnitt oder Claudia Sychla.
DTSTAMP:20260425T033013
DTSTART;TZID=Europe/Berlin:20250426T090000
DTEND;TZID=Europe/Berlin:20250426T200000
SEQUENCE:0
TRANSP:OPAQUE
END:VEVENT
END:VCALENDAR